BEGIN:VCALENDAR
VERSION:2.0
PRODID:-//Modern Mystery School UK and Europe - ECPv6.15.20//NONSGML v1.0//EN
CALSCALE:GREGORIAN
METHOD:PUBLISH
X-WR-CALNAME:Modern Mystery School UK and Europe
X-ORIGINAL-URL:https://modernmysteryschooluk.com
X-WR-CALDESC:Events for Modern Mystery School UK and Europe
REFRESH-INTERVAL;VALUE=DURATION:PT1H
X-Robots-Tag:noindex
X-PUBLISHED-TTL:PT1H
BEGIN:VTIMEZONE
TZID:Europe/London
BEGIN:DAYLIGHT
TZOFFSETFROM:+0000
TZOFFSETTO:+0100
TZNAME:BST
DTSTART:20250330T010000
END:DAYLIGHT
BEGIN:STANDARD
TZOFFSETFROM:+0100
TZOFFSETTO:+0000
TZNAME:GMT
DTSTART:20251026T010000
END:STANDARD
BEGIN:DAYLIGHT
TZOFFSETFROM:+0000
TZOFFSETTO:+0100
TZNAME:BST
DTSTART:20260329T010000
END:DAYLIGHT
BEGIN:STANDARD
TZOFFSETFROM:+0100
TZOFFSETTO:+0000
TZNAME:GMT
DTSTART:20261025T010000
END:STANDARD
BEGIN:DAYLIGHT
TZOFFSETFROM:+0000
TZOFFSETTO:+0100
TZNAME:BST
DTSTART:20270328T010000
END:DAYLIGHT
BEGIN:STANDARD
TZOFFSETFROM:+0100
TZOFFSETTO:+0000
TZNAME:GMT
DTSTART:20271031T010000
END:STANDARD
END:VTIMEZONE
BEGIN:VEVENT
DTSTART;TZID=Europe/London:20261017T100000
DTEND;TZID=Europe/London:20261017T180000
DTSTAMP:20260419T174715
CREATED:20260330T111201Z
LAST-MODIFIED:20260330T111201Z
UID:10002672-1792231200-1792260000@modernmysteryschooluk.com
SUMMARY:Enochian 2
DESCRIPTION:REQUIRED LEVEL OF INITIATION: Ritual Master \n\nDeposits will be taken once RM application is approved. \n\nPRE-REQUISITE: Enochian Training Level One \n*SEATING IS LIMITED ~\nFirst come\, first serve! \nINVESTMENT :\n \nfirst 30 £525 \n31 +  £585 \nDEPOSIT Required by XXXX : £250 \n\nPrices include VAT \n\n*Please note your deposit is non-refundable/\nnon-transferable for any reason  \nFull payment is required by XXXX  \nEMAIL: admin@modernmysteryschooluk.com \nLate payment fee £150 
URL:https://modernmysteryschooluk.com/event/enochian-2-5/
LOCATION:The Columbia\, 95-99 Lancaster Gate\, London\, W23NS\, United Kingdom
ATTACH;FMTTYPE=image/jpeg:https://modernmysteryschooluk.com/wp-content/uploads/2020/09/angels-.jpg
ORGANIZER;CN="Modern Mystery School UK & Europe":MAILTO:info@modernmysteryschooluk.com
END:VEVENT
END:VCALENDAR