BEGIN:VCALENDAR
VERSION:2.0
PRODID:-//Modern Mystery School UK and Europe - ECPv6.15.20//NONSGML v1.0//EN
CALSCALE:GREGORIAN
METHOD:PUBLISH
X-ORIGINAL-URL:https://modernmysteryschooluk.com
X-WR-CALDESC:Events for Modern Mystery School UK and Europe
REFRESH-INTERVAL;VALUE=DURATION:PT1H
X-Robots-Tag:noindex
X-PUBLISHED-TTL:PT1H
BEGIN:VTIMEZONE
TZID:Europe/London
BEGIN:DAYLIGHT
TZOFFSETFROM:+0000
TZOFFSETTO:+0100
TZNAME:BST
DTSTART:20250330T010000
END:DAYLIGHT
BEGIN:STANDARD
TZOFFSETFROM:+0100
TZOFFSETTO:+0000
TZNAME:GMT
DTSTART:20251026T010000
END:STANDARD
BEGIN:DAYLIGHT
TZOFFSETFROM:+0000
TZOFFSETTO:+0100
TZNAME:BST
DTSTART:20260329T010000
END:DAYLIGHT
BEGIN:STANDARD
TZOFFSETFROM:+0100
TZOFFSETTO:+0000
TZNAME:GMT
DTSTART:20261025T010000
END:STANDARD
BEGIN:DAYLIGHT
TZOFFSETFROM:+0000
TZOFFSETTO:+0100
TZNAME:BST
DTSTART:20270328T010000
END:DAYLIGHT
BEGIN:STANDARD
TZOFFSETFROM:+0100
TZOFFSETTO:+0000
TZNAME:GMT
DTSTART:20271031T010000
END:STANDARD
END:VTIMEZONE
BEGIN:VTIMEZONE
TZID:UTC
BEGIN:STANDARD
TZOFFSETFROM:+0000
TZOFFSETTO:+0000
TZNAME:UTC
DTSTART:20250101T000000
END:STANDARD
END:VTIMEZONE
BEGIN:VEVENT
DTSTART;TZID=Europe/London:20260221T100000
DTEND;TZID=Europe/London:20260222T190000
DTSTAMP:20260419T143015
CREATED:20260128T124031Z
LAST-MODIFIED:20260128T124141Z
UID:10002586-1771668000-1771786800@modernmysteryschooluk.com
SUMMARY:Empower Thyself with Asse in Estonia
DESCRIPTION:Empower Thyself – Unlocking Your Inner Power\n\nDescription\n\nA practical two-day workshop with a personalized approach introduces metaphysical teachings and ancient practices that empower your daily life. In the workshop\, we share sacred knowledge and tools that have been kept from history only for the chosen few and have only recently been made available to the wider public. \nAfter the workshop\, you will have practical tools for every situation in life to create the life you truly desire – more joy\, abundance and inner peace. ✨ \nIn the workshop you will get: \n✨ Clarity – you will understand how your energies and the galactic systems around us work. \n✨ Power – learn ancient techniques and knowledge on how to manage your life in cooperation with higher powers. \n✨ Tools – ten simple but powerful practices to support your daily life and dreams. \n✨ Protection – the ability to protect yourself from negative energies. \n✨ Network – access to an international community and supportive spiritual structures. \n✨ Systemic approach – you will be part of a long-tested systematic self-development journey – the line of King Solomon. \nWhy participate? \n👉 You will feel stronger\, calmer and more aware. \n👉 You will have about 10x more power and energy to create positive changes \n👉 You will have more confidence and more awareness \n👉 You will have the opportunity to go on a long-time-tested self-development journey with guides \n👉 You will have a clearer goal and the ability to manifest your dreams. \n👉 You will be able to use time-tested practices that have helped thousands of people around the world. \n👉 You will receive a three-month mentorship program worth 600€ \nThe workshop culminates in a King Solomon Lineage Initiation Ceremony – a powerful start to your new journey of self-development.✨ \nTo register\, please email asse@assesauga.com \nPS: To book a free personal pre-consultation\, please register here: https://calendly.com/asse-sauga/1-tunnine-koosolek… \nPS2! It is recommended to complete a private life activation session before the course. Please book a time for the session 👉 https://mina.ee/eluaktivatsioon/ \nOr write directly to Asse Sauga on FB or asse@assesauga.com \nWorkshop instructor Asse Sauga: \nAsse is a certified spiritual guide\, healer\, ritual master and trainer from the International Modern Mystery School. In the business world\, he has been known as an expert in cryptocurrency and blockchain\, but also an expert in people. He is increasingly improving herself on the kitchen side of the spiritual world\, working with people and helping them to open their inner potential and remember again who we are and where we come from. 💡 \nAsse is a high initiate in the 3000 year old King Solomon lineage. 🙌 \n❗️Additional information for course participants: \n〰️ Please note that the end time may vary depending on the group dynamics; \nPlease register by sending your name\, address and phone number to 👉 asse@assesauga.com
URL:https://modernmysteryschooluk.com/event/empower-thyself-with-asse-in-estonia-3/
LOCATION:Estonia
ATTACH;FMTTYPE=image/jpeg:https://modernmysteryschooluk.com/wp-content/uploads/2026/01/bff88ff9-9483-4684-b007-e3270bf6a3f3.jpg
END:VEVENT
BEGIN:VEVENT
DTSTART;TZID=Europe/London:20260221T100000
DTEND;TZID=Europe/London:20260222T190000
DTSTAMP:20260419T143015
CREATED:20260128T130632Z
LAST-MODIFIED:20260128T130933Z
UID:10002589-1771668000-1771786800@modernmysteryschooluk.com
SUMMARY:Empower Thyself with Radu Coman in Prague
DESCRIPTION:  \n \nDate: 21st-22nd of February 2026 \nTime: 9:30am – 7pm\nLocation: Prague\, Czech Republic\nPrice: € 1500\nHow to register:\nWhatsApp: +420 792 908 296 \nThis program will introduce you to metaphysical concepts and ancient teachings to EMPOWER your life\nwith the secrets of the sages that have been kept hidden throughout history.\nThe Empower Thyself Initiation enters you into the ancient lineage of King Salomon\, handed down from\nteacher to student for 3000 years. This is a powerful lineage with deep metaphysical teachings that have\nwithstood the eons of time.\nAs handed down by an official Guide in the Modern Mystery School\, the Adept Initiation brings you 10\ntimes greater empowerment to make the energetic and physical changes you need to reach your full\npotential.\nYou will learn about how your own energy systems work\, how the Hierarchy of Light and heaven is\nstructured\, how to work with the Archangels and Angels to guide your life\, as well as sacred tools such\nas rituals\, meditations and prayer.\nLearn to work with energy to manifest the life you truly want to live!\nThis is a two-day program\, and its completion is marked with a sacred initiation ceremony.\nPlease contact us on WhatsApp at +420 792 908 296 to reserve your seat.
URL:https://modernmysteryschooluk.com/event/empower-thyself-with-radu-coman-in-prague-2/
LOCATION:Praugue
ATTACH;FMTTYPE=image/jpeg:https://modernmysteryschooluk.com/wp-content/uploads/2026/01/Empower-Radu-in-February.jpg
END:VEVENT
BEGIN:VEVENT
DTSTART;TZID=UTC:20260222T100000
DTEND;TZID=UTC:20260222T190000
DTSTAMP:20260419T143015
CREATED:20260128T224600Z
LAST-MODIFIED:20260128T224623Z
UID:10002630-1771754400-1771786800@modernmysteryschooluk.com
SUMMARY:Sacred Geometry 2 – Crystal Magick with Yad
DESCRIPTION:Exploring the sacred geometries further\, we will go deep into the mysteries of crystals and how we can enhance our homes with four powerful geometric forms. \nThese teachings come directly from the ancient MU Text – the ancient methods of calling in unseen forces are many. In this class we will explore one of these. You will learn how to call in energies that will establish a good home and a better life. \nThis modality comes from an ancient lineage that is proven to progress humanity\, and in this instance supporting you in your progression.\nHealing the self is possible\, you just need to commit to it\, like anything if you seek the desired result.\nThis is the best service you can do for yourself.\n\n\n\n\n\n\n\n \n\n\n\n\n\n\n\n\n\n\n\n\nGain 4 modalities in this class: \n1. Crystal Healing \n2. Crystal Reading \n3. Crystal Rites for Healing Old Wounds\, Healing New Wounds\, and Manifesting with Crystals \n4. Crystal Gridding of your Space \nPre-requisites: \nLife Activation Session \nSacred Geometry 1 \nSuggested: \n1. Empower Thyself \n\n\n\n\nContact: resonateinnerpeace@gmail.com \n 
URL:https://modernmysteryschooluk.com/event/sacred-geometry-2-crystal-magick-with-yad/
LOCATION:MMS UK&EU HQ\, 4 Celbridge Mews\, London\, W26EU\, United Kingdom
ATTACH;FMTTYPE=image/png:https://modernmysteryschooluk.com/wp-content/uploads/2020/08/SacredGeometryLevel2_1-1536x810-1.png
END:VEVENT
END:VCALENDAR