BEGIN:VCALENDAR
VERSION:2.0
PRODID:-//Modern Mystery School UK and Europe - ECPv6.15.20//NONSGML v1.0//EN
CALSCALE:GREGORIAN
METHOD:PUBLISH
X-ORIGINAL-URL:https://modernmysteryschooluk.com
X-WR-CALDESC:Events for Modern Mystery School UK and Europe
REFRESH-INTERVAL;VALUE=DURATION:PT1H
X-Robots-Tag:noindex
X-PUBLISHED-TTL:PT1H
BEGIN:VTIMEZONE
TZID:Europe/London
BEGIN:DAYLIGHT
TZOFFSETFROM:+0000
TZOFFSETTO:+0100
TZNAME:BST
DTSTART:20250330T010000
END:DAYLIGHT
BEGIN:STANDARD
TZOFFSETFROM:+0100
TZOFFSETTO:+0000
TZNAME:GMT
DTSTART:20251026T010000
END:STANDARD
BEGIN:DAYLIGHT
TZOFFSETFROM:+0000
TZOFFSETTO:+0100
TZNAME:BST
DTSTART:20260329T010000
END:DAYLIGHT
BEGIN:STANDARD
TZOFFSETFROM:+0100
TZOFFSETTO:+0000
TZNAME:GMT
DTSTART:20261025T010000
END:STANDARD
BEGIN:DAYLIGHT
TZOFFSETFROM:+0000
TZOFFSETTO:+0100
TZNAME:BST
DTSTART:20270328T010000
END:DAYLIGHT
BEGIN:STANDARD
TZOFFSETFROM:+0100
TZOFFSETTO:+0000
TZNAME:GMT
DTSTART:20271031T010000
END:STANDARD
END:VTIMEZONE
BEGIN:VEVENT
DTSTART;TZID=Europe/London:20260214T100000
DTEND;TZID=Europe/London:20260214T130000
DTSTAMP:20260419T125755
CREATED:20260128T184415Z
LAST-MODIFIED:20260128T184720Z
UID:10002611-1771063200-1771074000@modernmysteryschooluk.com
SUMMARY:SACRED GEOMETRY 1 with Cecile in London
DESCRIPTION:SACRED GEOMETRY 1 CREATING SACRED SPACE\n \nA nurturing class that will give you some essential tools to create a space of positivity where you live\, shift vibration in your aura and spaces\, and create a sacred temple energy for meditation\, healing or any spiritual practice. \nLocation: INCENTRE London\, 124 Wigmore Street\, W1U 3RY \nExchange: £150 \nPrerequisite: Life Activation \nTo book your spot\, please click HERE or write us an email to contact@incentrelondon.com
URL:https://modernmysteryschooluk.com/event/sacred-geometry-1-with-cecile-in-london-5/
LOCATION:INCENTRE London\, 124 Wigmore Streer\, W1U 3RY\, United Kingdom
ATTACH;FMTTYPE=image/png:https://modernmysteryschooluk.com/wp-content/uploads/2024/02/SG-cecile-.png
ORGANIZER;CN="Incentre":MAILTO:contact@incentrelondon.com
END:VEVENT
BEGIN:VEVENT
DTSTART;TZID=Europe/London:20260214T143000
DTEND;TZID=Europe/London:20260214T183000
DTSTAMP:20260419T125755
CREATED:20260128T191333Z
LAST-MODIFIED:20260128T191333Z
UID:10002615-1771079400-1771093800@modernmysteryschooluk.com
SUMMARY:Astral Travel with Cecile in London
DESCRIPTION:Astral Travel\n\n\n\n\n\n\n\n\n\nAstral travel is an ancient technique\, which has been practised by great masters for thousands of years. When practised safely\, using techniques that are firmly grounded in lineage-based principles\, astral travelling is a powerful way to expand your consciousness and awareness beyond the physical confines of your body. \nIn this workshop\, you will be handed down the tools required for safe astral travelling to the Akashic Zone including: \n\n\nLearning to use a conscious induction process to expand your awareness beyond the limits of your physical body \n\n\nGreater awareness of how and where you can travel to receive guidance\, information and experience \n\n\nPhysical preparation of your space and body to build a deeper connection to your travels \n\n\nRituals and prayers to protect and bless you in your travels \n\n\nWhen: 1st November 2025 \nExchange: 150£ \nLocation:124 Wigmore St\, London W1U 3SB \nPrerequisite: Life Activation and Sacred Geometry 1 \nTo book your spot\, please click HERE
URL:https://modernmysteryschooluk.com/event/astral-travel-with-cecile-in-london-3/
LOCATION:INCENTRE London\, 124 Wigmore Streer\, W1U 3RY\, United Kingdom
ATTACH;FMTTYPE=image/jpeg:https://modernmysteryschooluk.com/wp-content/uploads/2024/02/AT-cecile-.jpeg
ORGANIZER;CN="Incentre":MAILTO:contact@incentrelondon.com
END:VEVENT
END:VCALENDAR