BEGIN:VCALENDAR
VERSION:2.0
PRODID:-//Modern Mystery School UK and Europe - ECPv6.15.20//NONSGML v1.0//EN
CALSCALE:GREGORIAN
METHOD:PUBLISH
X-WR-CALNAME:Modern Mystery School UK and Europe
X-ORIGINAL-URL:https://modernmysteryschooluk.com
X-WR-CALDESC:Events for Modern Mystery School UK and Europe
REFRESH-INTERVAL;VALUE=DURATION:PT1H
X-Robots-Tag:noindex
X-PUBLISHED-TTL:PT1H
BEGIN:VTIMEZONE
TZID:Europe/London
BEGIN:DAYLIGHT
TZOFFSETFROM:+0000
TZOFFSETTO:+0100
TZNAME:BST
DTSTART:20250330T010000
END:DAYLIGHT
BEGIN:STANDARD
TZOFFSETFROM:+0100
TZOFFSETTO:+0000
TZNAME:GMT
DTSTART:20251026T010000
END:STANDARD
BEGIN:DAYLIGHT
TZOFFSETFROM:+0000
TZOFFSETTO:+0100
TZNAME:BST
DTSTART:20260329T010000
END:DAYLIGHT
BEGIN:STANDARD
TZOFFSETFROM:+0100
TZOFFSETTO:+0000
TZNAME:GMT
DTSTART:20261025T010000
END:STANDARD
BEGIN:DAYLIGHT
TZOFFSETFROM:+0000
TZOFFSETTO:+0100
TZNAME:BST
DTSTART:20270328T010000
END:DAYLIGHT
BEGIN:STANDARD
TZOFFSETFROM:+0100
TZOFFSETTO:+0000
TZNAME:GMT
DTSTART:20271031T010000
END:STANDARD
END:VTIMEZONE
BEGIN:VTIMEZONE
TZID:UTC
BEGIN:STANDARD
TZOFFSETFROM:+0000
TZOFFSETTO:+0000
TZNAME:UTC
DTSTART:20250101T000000
END:STANDARD
END:VTIMEZONE
BEGIN:VEVENT
DTSTART;TZID=Europe/London:20260206T100000
DTEND;TZID=Europe/London:20260207T170000
DTSTAMP:20260419T125647
CREATED:20260128T164103Z
LAST-MODIFIED:20260128T164103Z
UID:10002607-1770372000-1770483600@modernmysteryschooluk.com
SUMMARY:Empower Thyself with Cécile - London
DESCRIPTION:This course will introduce you to metaphysical concepts and ancient teachings to EMPOWER your life with the secrets of the sages that have been kept hidden throughout history. \n \nTrue to the ancient system of human progression as handed down in the mystery schools of ancient over thousands of years this class and initiation will give you the metaphysical tools and understanding to live your life in connection with your own strength\, power\, and sovereignty and to let go of external influences (e.g. judgments or opinions) which might have been limiting your choices in the past. \nIn this two-day class\, followed by initiation\, you will: \n\n\nHave increased awareness and connection to your intuition\, and inner guidance \n\n\nLearn ancient tools and sacred rituals – used for thousands of years to re-awaken divinity and align with your true purpose \n\n\nAccess hidden secrets to the mysteries of the universe \n\n\nConnect to your higher self  – learn your purpose and discover wisdom\, to enhance your life on a daily basis \n\n\nStrengthen and protect your energy field – learn to grow your Chi through ancient rituals \n\n\nBreakthrough repeated emotional loops – turn them into wisdom by using sacred rituals that help you to raise your own frequency and clean your aura \n\n\nLearn how to work with Angels and Light beings in a deeper way as an initiate \n\n\nAlign your personal energy (or willpower) to flow clockwise (in alignment with the will of God\, nature\, and the universe) \n\n\nCreate a foundation of positive light energy – so you can better handle the challenges and obstacles that come up in life \n\n\nHave the ability to access further training – including higher initiations\, using the lineage tools to support others as a healer and ritual master \n\n\nGain 10 times more Light energy to direct toward your goals\, dreams\, and desires in life \n\n\nClasses are in-person at Incentre London \nTo book your place\, please email CECILE at ceciletanmayageorge@incentrelondon.com or reach out by phone on 07583165409\nYou can also use this link to register \nKeen to know more about the Empower Thyself Class?\nClick HERE to view a video and description \n 
URL:https://modernmysteryschooluk.com/event/empower-thyself-with-cecile-london-10/
LOCATION:INCENTRE London\, 124 Wigmore Streer\, W1U 3RY\, United Kingdom
ATTACH;FMTTYPE=image/png:https://modernmysteryschooluk.com/wp-content/uploads/2025/06/cecile-ET.png
ORGANIZER;CN="Incentre":MAILTO:contact@incentrelondon.com
END:VEVENT
BEGIN:VEVENT
DTSTART;TZID=UTC:20260207T090000
DTEND;TZID=UTC:20260207T180000
DTSTAMP:20260419T125647
CREATED:20251210T141431Z
LAST-MODIFIED:20251210T142524Z
UID:10002548-1770454800-1770487200@modernmysteryschooluk.com
SUMMARY:Sacred Geometry 2 - Crystal Magick with Ipsissima Kate
DESCRIPTION:Exploring the sacred geometries further\, we will go deep into the mysteries of crystals and how we can enhance our homes with four powerful geometric forms. \nThese teachings come directly from the ancient MU Text – the ancient methods of calling in unseen forces are many. In this class\, we will explore one of these. You will learn how to call in energies that will establish a good home and a better life. \n \n  \nPlease register \nKate@modernmysteryschooluk.com
URL:https://modernmysteryschooluk.com/event/sacred-geometry-2-crystal-magick-with-ipsissima-kate/
LOCATION:MMS UK&EU HQ\, 4 Celbridge Mews\, London\, W26EU\, United Kingdom
ATTACH;FMTTYPE=image/png:https://modernmysteryschooluk.com/wp-content/uploads/2020/08/SacredGeometryLevel2_1-1536x810-1.png
ORGANIZER;CN="Dr Kate Bartram Brown":MAILTO:admin@modernmysteryschooluk.com
END:VEVENT
BEGIN:VEVENT
DTSTART;TZID=Europe/London:20260207T100000
DTEND;TZID=Europe/London:20260207T140000
DTSTAMP:20260419T125647
CREATED:20260128T124638Z
LAST-MODIFIED:20260128T221725Z
UID:10002587-1770458400-1770472800@modernmysteryschooluk.com
SUMMARY:Sacred Geometry 1 with Asse in Estonia
DESCRIPTION:  \nDescription\nFebruary 7\, 2026 – February 7\, 2026\n10:00:00 – 14:00:00\n\n✨Sacred Geometry is a powerful set of teachings and practices that have been with us for thousands of years! \nThe first part of Sacred Geometry is the concept and timeless wisdom of the divine geometric patterns that form the foundation of creation and the structure of the universe. Geometry is the universal language of the universe and the precursor to creation.🌙 \nBy understanding geometric patterns and the information they carry\, you learn the pure language of the universe\, accessing universal wisdom. \n🧿 Do you want the deepest knowledge of the creation process and how to manifest your dream life more powerfully with the help of Sacred Geometry? \nIn the Sacred Geometry course you will learn: \n💫 how to awaken the power of the three main sacred shapes in your body and aura; \n💫 how to get in touch with your higher nature through magical symbols; \n💫 how to connect with your divinity and deeper creation using the four basic elements; \n💫 how to activate and raise the vibrations of spaces and buildings; \n💫 how to create a sacred space and temple. \n💫 how to cleanse a space. \nRegistration for the workshop: send an email to asse@assesauga.com \nPrice: 100€. \nP.S.! It is recommended to complete the Life Activation session first. \nLife Activation is a powerful session that allows you to access your even stronger power and a new level of life potential. ✨ \nRegister for Life Activation: \n👉 https://mina.ee/eluaktivatsioon \n👉 by writing to asse@assesauga.com \n👉 or by sending a message on Facebook: Asse Sauga! \nInstructor. \n🔮 ASSE SAUGA 🔮 \nAsse is an initiate of the King Solomon teachings\, a certified healer\, spiritual guide\, Ritual Master and trainer. In addition\, Asse is also a cryptocurrency expert and entrepreneur. Asse’s passion is to help people amplify and unlock their inner power through ancient proven tools and wisdom. \nIf you have any questions\, please contact us 👇 \nFacebook: Asse Sauga \nInstagram: @assesauga \nhttps://www.assesauga.com \nasse@assesauga.com \nAsse Sauga +372 503 5347
URL:https://modernmysteryschooluk.com/event/sacred-geometry-1-with-asse-in-estonia/
LOCATION:Estonia
END:VEVENT
BEGIN:VEVENT
DTSTART;TZID=Europe/London:20260207T100000
DTEND;TZID=Europe/London:20260208T180000
DTSTAMP:20260419T125647
CREATED:20251105T162808Z
LAST-MODIFIED:20251105T162808Z
UID:10002527-1770458400-1770573600@modernmysteryschooluk.com
SUMMARY:Empower Thyself Program with Kasia\, London
DESCRIPTION:EMPOWER THYSELF \n \n\n\n\nThe Empower Thyself program is a two-day class that will take your life and spiritual awareness to new level heights! You will learn ancient and sacred rituals to protect your energy\, clear low vibration\, and to help create what you desire with more ease and clarity! Using these tools regularly will help you step up and move forward in your life to a much higher vibration! This class is for those who have a sense that there is something greater\, something more in the world than this physical reality\, those who know they have a mission to fulfill in this life\, and who wish to help make the world a better\, brighter and more positive\, joyous\, loving place for all! \nFor thousands of years\, ancient mystery schools have existed across the globe\,  tapping into the knowledge that awakens enlightenment\, wisdom\, and understanding for those who seek to know themselves. \nInitiation has helped some of the greatest minds and leaders in the history of the human race\, such as Albert Einstein\, Nicola Tesla\, Leonardo Da Vinci\, Rudolf Steiner\, and King Solomon the Wise! With this initiation\, you are telling the Universe that you would like to Know Thyself at a deeper level than ever before and that you would like more empowerment.   Initiation will permanently create: \n\n\nEnhancement of your spiritual senses \n\n\nEmpowerment of 10 times more Light energy to direct toward your goals\, dreams\, and desires in life \n\n\nReceive ancient tools and sacred rituals that initiates have used for thousands of years to awaken their divinity and align themselves with their true purpose \n\n\nUnlock the answers within yourself to questions such as “Who am I?”\, and “Why am I here?” \n\n\nCapability to grow your chi and protect your own personal energy field \n\n\nMuch more clarity and a deeper connection with your intuition \n\n\n\n\n  \n\nAre you ready to live an empowered life?  \nJoin me for this life-changing weekend\, Transform and live your Full Potential. \n  \nPlease email Kasia at info@findblisswithin.com or text 0753365331 to know more.  \nTo reserve your seat\, please click the link https://www.findblisswithin.com//_paylink/AZCoCkDq \n  \nYou can explore the packages available here. \n 
URL:https://modernmysteryschooluk.com/event/empower-thyself-program-with-kasia-london/
LOCATION:MMS UK&EU HQ\, 4 Celbridge Mews\, London\, W26EU\, United Kingdom
ATTACH;FMTTYPE=image/png:https://modernmysteryschooluk.com/wp-content/uploads/2024/05/11.png
ORGANIZER;CN="Kasia Mikolajczyk":MAILTO:admin@modernmysteryschooluk.com
END:VEVENT
BEGIN:VEVENT
DTSTART;TZID=Europe/London:20260207T150000
DTEND;TZID=Europe/London:20260207T190000
DTSTAMP:20260419T125647
CREATED:20260128T125245Z
LAST-MODIFIED:20260128T125651Z
UID:10002588-1770476400-1770490800@modernmysteryschooluk.com
SUMMARY:Astral Travel 1 with Asse in Estonia
DESCRIPTION:Description\n\nThis class teaches\, provides tools and keys to safely and effectively expand your consciousness and discover other dimensions through the journey. 🙌 \nDuring astral travel\, your consciousness expands and moves beyond the boundaries of physical reality.💫 \nYou will have the opportunity to ask questions and receive the deepest answers about yourself and the entire universe. 🧿 \nYou can experience all this from the comfort of your own armchair at home or wherever you want. \nInstructor: \n🔮 ASSE SAUGA 🔮 \nAsse is an initiate of the King Solomon teachings\, a certified healer\, guide\, Ritual Master and the Estonian leader of the Mystic School. In addition\, Asse is also a cryptocurrency expert\, entrepreneur and trainer. Asse’s passion is to create abundance and help people amplify and unlock their inner power through ancient proven tools and wisdom. \nREGISTRATION \nRegister 👉🏻 : asse@assesauga.com \nPrice: 100€ \n💡 P.S.! Life Activation is recommended for all courses. \nLife Activation is a powerful healing session that allows you to access your even stronger power and unseen life potential. ✨ \nRegister for Life Activation: \n👉 https://mina.ee/eluaktivatsioon \n👉 by writing: asse@assesauga.com \n👉 or by sending a message to Facebook: Asse Sauga \n❕The end time of the course may change depending on the group dynamics. \n❕ The number of places is limited. \n❕ This class is necessary if you want to progress to become a Life Activation practitioner. \nIf you have any questions\, please contact 👇 \nFacebook: Ensearengu agentuur Mina \nInstagram: @assesauga \nhttps://www.assesauga.com \nasse@assesauga.com \nAsse Sauga +372 503 5347
URL:https://modernmysteryschooluk.com/event/astral-travel-1-with-asse-in-estonia/
LOCATION:Estonia
ATTACH;FMTTYPE=image/jpeg:https://modernmysteryschooluk.com/wp-content/uploads/2026/01/ca1ceb34-3821-47f6-ad12-0b168337cfb1.jpg
END:VEVENT
END:VCALENDAR