BEGIN:VCALENDAR
VERSION:2.0
PRODID:-//Modern Mystery School UK and Europe - ECPv6.15.20//NONSGML v1.0//EN
CALSCALE:GREGORIAN
METHOD:PUBLISH
X-ORIGINAL-URL:https://modernmysteryschooluk.com
X-WR-CALDESC:Events for Modern Mystery School UK and Europe
REFRESH-INTERVAL;VALUE=DURATION:PT1H
X-Robots-Tag:noindex
X-PUBLISHED-TTL:PT1H
BEGIN:VTIMEZONE
TZID:Europe/London
BEGIN:DAYLIGHT
TZOFFSETFROM:+0000
TZOFFSETTO:+0100
TZNAME:BST
DTSTART:20250330T010000
END:DAYLIGHT
BEGIN:STANDARD
TZOFFSETFROM:+0100
TZOFFSETTO:+0000
TZNAME:GMT
DTSTART:20251026T010000
END:STANDARD
BEGIN:DAYLIGHT
TZOFFSETFROM:+0000
TZOFFSETTO:+0100
TZNAME:BST
DTSTART:20260329T010000
END:DAYLIGHT
BEGIN:STANDARD
TZOFFSETFROM:+0100
TZOFFSETTO:+0000
TZNAME:GMT
DTSTART:20261025T010000
END:STANDARD
BEGIN:DAYLIGHT
TZOFFSETFROM:+0000
TZOFFSETTO:+0100
TZNAME:BST
DTSTART:20270328T010000
END:DAYLIGHT
BEGIN:STANDARD
TZOFFSETFROM:+0100
TZOFFSETTO:+0000
TZNAME:GMT
DTSTART:20271031T010000
END:STANDARD
END:VTIMEZONE
BEGIN:VEVENT
DTSTART;TZID=Europe/London:20260104T100000
DTEND;TZID=Europe/London:20260104T130000
DTSTAMP:20260419T160438
CREATED:20251105T163602Z
LAST-MODIFIED:20251105T163602Z
UID:10002528-1767520800-1767531600@modernmysteryschooluk.com
SUMMARY:Sacred Geometry 1 with Kasia in London
DESCRIPTION:Sacred Geometry 1 \n\n\nEverything in the physical world manifests through Sacred Geometry.  \nSacred patterns and symbols are found in all matter\, all around us. Sacred Geometry is an art\, a science\, and a metaphysical series of teachings that help to elevate our consciousness and master the process of creation. \n​ \nThe Greeks and Egyptians were the most famous students of the Sacred Geometry principles. From the Pyramids of Giza to the mathematical schools of Pythagoras\, Sacred Geometry helped the adept to acquire wisdom\, connect with spirit\, and transform the energy of the physical world around them. \n​ \nIn this half a day workshop\, you will be introduced to the philosophical foundation of Sacred Geometry including: \n\n\nThe 3 Keys to Heaven – the energy and theory of the 3 basic geometries \n\n\nThe connection of Sacred Geometry to the elements of Manifestation \n\n\nReceive an energetic attunement of the 3 Keys to Heaven \n\n\nLearn to protect your home\, office\, and other spaces from outside negative energies \n\n\nCreate a holy temple space for meditation\, healing\, and holy work \n\n\n​ \n\n\n\nTo book your place\, please email KASIA at info@findblisswithin.com or reach out by phone on 07533653331\nYou can also use the link here to register.
URL:https://modernmysteryschooluk.com/event/sacred-geometry-1-with-kasia-in-london-7/
LOCATION:MMS UK&EU HQ\, 4 Celbridge Mews\, London\, W26EU\, United Kingdom
ATTACH;FMTTYPE=image/png:https://modernmysteryschooluk.com/wp-content/uploads/2024/05/10.png
ORGANIZER;CN="Kasia Mikolajczyk":MAILTO:admin@modernmysteryschooluk.com
END:VEVENT
BEGIN:VEVENT
DTSTART;TZID=Europe/London:20260104T140000
DTEND;TZID=Europe/London:20260104T180000
DTSTAMP:20260419T160438
CREATED:20251105T163944Z
LAST-MODIFIED:20251105T163944Z
UID:10002530-1767535200-1767549600@modernmysteryschooluk.com
SUMMARY:Astral Travel with Kasia\, in London
DESCRIPTION:Astral Travel Level 1\n  \n \nWould you like to expand your consciousness and learn about yourself as a spiritual being – beyond your physical body? Astral travel explores the outer reaches of human consciousness and gives you powerful tools for self-healing. \nHOW DOES ASTRAL TRAVEL WORK?\nIn this class\, you will learn a technique to safely travel across the spiritual dimensions and the known universe to: \n\n\nLearn about and reinforce your understanding of yourself as a spiritual being \n\n\nNourish your soul and spirit for true wellness \n\n\nUnderstand yourself and the nature of your existence by travelling to the Akashic Records \n\n\nConnect to your inner guidance and accelerate your capacity to learn your life lessons \n\n\nShifting to the realm of greater “possibilities” in your life \n\n\nAs with all core lineage classes taught through the Modern Mystery School\, I teach Astral Travel in person on practical\, subtle\, and energetic levels that go far beyond what your conscious mind perceives and what you can find in books and on the internet. \nAstral travel is a very deep personal practice – if you take the tools from this class and practice them regularly\, you will see miracles in your life and shifts in what you consider possible. \n  \nTo book your place\, email Kasia at info@findblisswithin.com or via phone 075 33 65 3331 \nOr for quick booking\, please click here https://www.findblisswithin.com/_paylink/AZmFao0I \nWant to see other workshops and classes The Modern Mystery School offers?\nReach out to know more!
URL:https://modernmysteryschooluk.com/event/astral-travel-with-kasia-in-london-12/
LOCATION:MMS UK&EU HQ\, 4 Celbridge Mews\, London\, W26EU\, United Kingdom
ATTACH;FMTTYPE=image/png:https://modernmysteryschooluk.com/wp-content/uploads/2024/05/7.png
ORGANIZER;CN="Kasia Mikolajczyk":MAILTO:admin@modernmysteryschooluk.com
END:VEVENT
END:VCALENDAR