BEGIN:VCALENDAR
VERSION:2.0
PRODID:-//Modern Mystery School UK and Europe - ECPv6.15.20//NONSGML v1.0//EN
CALSCALE:GREGORIAN
METHOD:PUBLISH
X-WR-CALNAME:Modern Mystery School UK and Europe
X-ORIGINAL-URL:https://modernmysteryschooluk.com
X-WR-CALDESC:Events for Modern Mystery School UK and Europe
REFRESH-INTERVAL;VALUE=DURATION:PT1H
X-Robots-Tag:noindex
X-PUBLISHED-TTL:PT1H
BEGIN:VTIMEZONE
TZID:Europe/London
BEGIN:DAYLIGHT
TZOFFSETFROM:+0000
TZOFFSETTO:+0100
TZNAME:BST
DTSTART:20240331T010000
END:DAYLIGHT
BEGIN:STANDARD
TZOFFSETFROM:+0100
TZOFFSETTO:+0000
TZNAME:GMT
DTSTART:20241027T010000
END:STANDARD
BEGIN:DAYLIGHT
TZOFFSETFROM:+0000
TZOFFSETTO:+0100
TZNAME:BST
DTSTART:20250330T010000
END:DAYLIGHT
BEGIN:STANDARD
TZOFFSETFROM:+0100
TZOFFSETTO:+0000
TZNAME:GMT
DTSTART:20251026T010000
END:STANDARD
BEGIN:DAYLIGHT
TZOFFSETFROM:+0000
TZOFFSETTO:+0100
TZNAME:BST
DTSTART:20260329T010000
END:DAYLIGHT
BEGIN:STANDARD
TZOFFSETFROM:+0100
TZOFFSETTO:+0000
TZNAME:GMT
DTSTART:20261025T010000
END:STANDARD
END:VTIMEZONE
BEGIN:VEVENT
DTSTART;TZID=Europe/London:20251219T140000
DTEND;TZID=Europe/London:20251219T180000
DTSTAMP:20260419T174743
CREATED:20251130T212200Z
LAST-MODIFIED:20251130T212201Z
UID:10002544-1766152800-1766167200@modernmysteryschooluk.com
SUMMARY:Astral Travel with Marian Barnow in Berlin
DESCRIPTION:Astral Travel 1:\nExpand your Consciousness beyond the Physical\nUpcoming events:\nDecember 19th\, 2025\n2pm to 6pm\,\nBerlin\, Ireland\n\n✨ Have you ever felt there’s more to reality than meets the eye?\n\nWhat if you could safely explore higher realms\, receive guidance\, and access universal knowledge — all while remaining fully conscious and in control?\n\nThe Astral Travel workshop teaches you the ancient art of journeying beyond the physical body to expand your awareness\, connect with higher dimensions\, and access wisdom far beyond the five senses.\nTaught through sacred techniques passed down for thousands of years\, this class empowers you to travel with confidence\, clarity\, and purpose.\n\n​​✨ What You Will Discover in This Class:\n\nHow to expand your consciousness beyond physical limitations using a conscious induction technique\n• The laws of safe and sacred travel according to ancient spiritual principles\n• How to access specific realms for guidance\, insight\, healing\, and universal knowledge\n• Techniques to prepare your body and space for deeper\, more accurate travel\n• Rituals and prayers to protect\, bless\, and guide your journeys\n• A deeper understanding of who you are — as a multi-dimensional being\n\nThis is not a guided visualisation. This is the art and science of real\, conscious out-of-body exploration — taught in a grounded\, protected\, way according to an ancient tradition.​\n\nDate: 19th of December 2025\nTime: 2pm-6pm\n\nLocation: 📍H10 Hotel Berlin\, Joachimsthaler Str. 31-32\, 10719 Berlin\n\n​Exchange: 175 €\n\nPrerequisites: None\, but the DNA- and Life Activation is strongly recommended for all classes\n\nThis class is for you if:\n• You’ve had a spiritual awakening or spontaneous spiritual experiences and wonder what comes next\n• You feel called to explore the unseen realms of the universe — with structure\, safety\, and clarity\n• You’re seeking direct spiritual connection and higher guidance\n• You want to expand your perception and want to deepen your ability to astral travel on your own\n• You’re ready to unlock ancient tools that empower you beyond belief systems\n\nDetails\n\nDate:\nDecember 19\n\nTime:\n3:00 PM – 7:00 PM\n\nCost:\nE175\n\nOrganiser\nMarian Barnow\n\nPhone\n+491720243162
URL:https://modernmysteryschooluk.com/event/astral-travel-with-marian-barnow-in-berlin/
LOCATION:Germany – Berlin
ATTACH;FMTTYPE=image/jpeg:https://modernmysteryschooluk.com/wp-content/uploads/2025/11/1000060625.jpg
END:VEVENT
BEGIN:VEVENT
DTSTART;TZID=Europe/London:20251219T140000
DTEND;TZID=Europe/London:20251219T180000
DTSTAMP:20260419T174743
CREATED:20251130T212959Z
LAST-MODIFIED:20251130T213000Z
UID:10002545-1766152800-1766167200@modernmysteryschooluk.com
SUMMARY:7 Mystery Schools with Marian Barnow in Berlin
DESCRIPTION:7 Mystery Schools Class\nWhat if the greatest teachings of human potential were never lost — only protected?\n\nJoin this evening of Insight\, History & Ancient Wisdom\n\nNext Class:\n13. December 2025\,\nBerlin\, Germany\n\nFor thousands of years\, the Mystery Schools of the Earth have worked quietly behind the scenes\, guiding humanity from the shadows. Once reserved for royalty and extremely gifted\, their sacred knowledge is now being opened to the public for the first time in millennia.\n\n​\n\n✨ What You Will Discover in This Class:\n\n\n\n​The locations and unique purpose of each of the 7 Mystery Schools\n\n\n\n\n\nHow they function together as part of a greater plan for humanity\n\n\n\n\n\nTheir deep connection to the human body\, consciousness\, and evolution\n\n\n\n\n\nWhy their teachings were once hidden — and why they are re-emerging now\n\n\n\n\n\nAn introduction to the Modern Mystery School\, its holy lineage\, protected teachings and the path towards Shamballa — a world of peace\, purpose\, and awakening.\n\n\n\nThis class is for you\, if:\n• You’ve ever felt there’s more to life than what meets the eye\n• You’re curious about ancient wisdom\, sacred teachings\, or spiritual history\n• You’ve had a spiritual awakening and are seeking the next step\n• You’re drawn to mystery schools\, esotericism\, or metaphysical teachings\n• You want to understand your deeper purpose and how humanity fits into a greater plan\n• You’re considering taking your first class with the Modern Mystery School and want an informed introduction\n\nRegistration\nDate: 13th of December 2025\, 18.00 pm to 20.00 pm\n\n​Class-Fee:\n\nSpots 1-5: 50 €\n\nSpots 6-9: 55 €\n\nSpots 10+: 60 €\n\n Venue: 📍H10 Hotel Berlin\, Joachimsthaler Str. 31-32\, 10719 Berlin
URL:https://modernmysteryschooluk.com/event/7-mystery-schools-with-marian-barnow-in-berlin/
ATTACH;FMTTYPE=image/png:https://modernmysteryschooluk.com/wp-content/uploads/2025/11/Screenshot-2025-11-30-at-21.26.23.png
END:VEVENT
BEGIN:VEVENT
DTSTART;TZID=Europe/London:20251219T190000
DTEND;TZID=Europe/London:20251219T203000
DTSTAMP:20260419T174743
CREATED:20250926T102653Z
LAST-MODIFIED:20251203T204957Z
UID:10002500-1766170800-1766176200@modernmysteryschooluk.com
SUMMARY:MAX Meditation - Reconnect to Inner Peace
DESCRIPTION:MAX Meditation Invitation \nThe MAX Meditation is the perfect time to pause\, relax\, and reconnect with your inner peace and stillness. \nFrom inner calm and relaxation\, we can grow and transform. \nSet new intentions and initiate the positive change in your life! \nCome as you are and allow yourself the gift of quiet reflection and gentle renewal. Let’s step into a quiet pond\, here healing and inspiration await. \nReady to reconnect to inner peace and allow yourself to truly rest and welcome new possibilities? \nJoin me on 20 November 2025 \nTime: 7pm-8:30pm \nLocation: 4 Celbridge Mews London\, W26EU \nInvestment: £20 \nClick HERE to reserve your spot. \nSee you soon \n#MAXMeditation #InnerPeace #Stillness #FindBlissWithin
URL:https://modernmysteryschooluk.com/event/max-meditation-reconnect-to-inner-peace-2/
LOCATION:MMS UK&EU HQ\, 4 Celbridge Mews\, London\, W26EU\, United Kingdom
ATTACH;FMTTYPE=image/png:https://modernmysteryschooluk.com/wp-content/uploads/2025/09/Screenshot-2025-09-26-at-11.20.27.png
ORGANIZER;CN="Kasia Mikolajczyk":MAILTO:admin@modernmysteryschooluk.com
END:VEVENT
END:VCALENDAR