BEGIN:VCALENDAR
VERSION:2.0
PRODID:-//Modern Mystery School UK and Europe - ECPv6.15.20//NONSGML v1.0//EN
CALSCALE:GREGORIAN
METHOD:PUBLISH
X-WR-CALNAME:Modern Mystery School UK and Europe
X-ORIGINAL-URL:https://modernmysteryschooluk.com
X-WR-CALDESC:Events for Modern Mystery School UK and Europe
REFRESH-INTERVAL;VALUE=DURATION:PT1H
X-Robots-Tag:noindex
X-PUBLISHED-TTL:PT1H
BEGIN:VTIMEZONE
TZID:Europe/London
BEGIN:DAYLIGHT
TZOFFSETFROM:+0000
TZOFFSETTO:+0100
TZNAME:BST
DTSTART:20240331T010000
END:DAYLIGHT
BEGIN:STANDARD
TZOFFSETFROM:+0100
TZOFFSETTO:+0000
TZNAME:GMT
DTSTART:20241027T010000
END:STANDARD
BEGIN:DAYLIGHT
TZOFFSETFROM:+0000
TZOFFSETTO:+0100
TZNAME:BST
DTSTART:20250330T010000
END:DAYLIGHT
BEGIN:STANDARD
TZOFFSETFROM:+0100
TZOFFSETTO:+0000
TZNAME:GMT
DTSTART:20251026T010000
END:STANDARD
BEGIN:DAYLIGHT
TZOFFSETFROM:+0000
TZOFFSETTO:+0100
TZNAME:BST
DTSTART:20260329T010000
END:DAYLIGHT
BEGIN:STANDARD
TZOFFSETFROM:+0100
TZOFFSETTO:+0000
TZNAME:GMT
DTSTART:20261025T010000
END:STANDARD
END:VTIMEZONE
BEGIN:VEVENT
DTSTART;TZID=Europe/London:20251203T133000
DTEND;TZID=Europe/London:20251203T173000
DTSTAMP:20260419T174741
CREATED:20251031T145525Z
LAST-MODIFIED:20251031T151927Z
UID:10002513-1764768600-1764783000@modernmysteryschooluk.com
SUMMARY:Sacred Geometry 1 with Martina in London
DESCRIPTION:You will discover that you have the ability to connect the spiritual and physical realms by transforming your home and workspaces into sacred sanctuaries. Utilizing these spaces as temples will enhance and empower nearly every aspect of your life. You will also learn how using these ancient symbolic arrangements on a person can heal their energy field\, allowing them to live a life filled with joy and light. \n \nBegin your journey with Sacred Geometry\, exploring its philosophy and foundational principles\, including: \n \n\n\nThe 3 Keys to Heaven – the theory and the energy of the 3 basic geometric shapes: the triangle\, the square\, and the circle. \n\n\nSacred Geometry and the elements of Manifestation. \n\n\nReceive an attunement to the 3 Keys to Heaven. \n\n\nLearn how to protect your home\, office and other spaces from outside negative energies using Sacred Geometry. \n\n\nTo register please reach out to Martina here.
URL:https://modernmysteryschooluk.com/event/sacred-geometry-1-with-martina-in-london-3/
LOCATION:Modern Mystery School Uk & EU\, 95 Lancaster Gate\, London\, W23NS\, United Kingdom
ATTACH;FMTTYPE=image/webp:https://modernmysteryschooluk.com/wp-content/uploads/2024/01/SG-1-martin-.webp
END:VEVENT
BEGIN:VEVENT
DTSTART;TZID=Europe/London:20251203T183000
DTEND;TZID=Europe/London:20251203T193000
DTSTAMP:20260419T174741
CREATED:20240907T113404Z
LAST-MODIFIED:20250831T140054Z
UID:10002185-1764786600-1764790200@modernmysteryschooluk.com
SUMMARY:Max Meditation Every Wednesday
DESCRIPTION:Join us in person or online for a guided meditation ( Max Meditation System TM) that includes 5 components to completely relax and rejuvenate your being. Benefits of Meditation Clarity during times of feeling overwhelmed Keeps you focused and centered on all positivity. Empowers you to own the ability to change your thoughts and Greater Awareness so you can make better choices Relaxes your mind and physical body Lowers blood pressure the ability to enhance your creativity Reduces stress and many more … \nMax Meditation System TM\n \nPeace \nCalm \nBalance \nare just some of the many benefits of meditation \nPlease join us at 6:20 pm for a 6:30pm start \nExchange £15 \nTo book your seat\, please click HERE \nBookings are essential as seating is LIMITED \nemail: resonateinnerpeace@gmail.com
URL:https://modernmysteryschooluk.com/event/max-meditation-london-2-2/2025-12-03/
LOCATION:MMS UK&EU HQ\, 4 Celbridge Mews\, London\, W26EU\, United Kingdom
ORGANIZER;CN="Modern Mystery School UK & Europe":MAILTO:info@modernmysteryschooluk.com
END:VEVENT
BEGIN:VEVENT
DTSTART;TZID=Europe/London:20251203T190000
DTEND;TZID=Europe/London:20251203T210000
DTSTAMP:20260419T174741
CREATED:20250831T134650Z
LAST-MODIFIED:20250831T135141Z
UID:10002485-1764788400-1764795600@modernmysteryschooluk.com
SUMMARY:7 Mystery Schools Class
DESCRIPTION:7 Mystery Schools Class\n  \n \nIn this informative class\, you will learn about the planet’s 7 mystery schools\, including their location\, mission\, purpose\, and deep insights. \nFor years\, these schools have been closed to the public. The teachings were only offered to royalty and the extremely gifted\, but humanity’s consciousness has been shifting to new heights\, and now all are ready to receive this information and teachings. \nThis class offers a more in-depth look at these and the information and mystery contained within them. \nTo register please email admin@modernmysteryschooluk.com \nLocation:  MMSUK&EU HQ\, 4 Celbridge Mews\, London\, W26EU\nInvestment: £45 per class 
URL:https://modernmysteryschooluk.com/event/7-mystery-schools-class-5/
LOCATION:MMS UK&EU HQ\, 4 Celbridge Mews\, London\, W26EU\, United Kingdom
ATTACH;FMTTYPE=image/webp:https://modernmysteryschooluk.com/wp-content/uploads/2025/08/water-1283963__340.webp
ORGANIZER;CN="Modern Mystery School UK & Europe":MAILTO:info@modernmysteryschooluk.com
END:VEVENT
BEGIN:VEVENT
DTSTART;TZID=Europe/London:20251203T190000
DTEND;TZID=Europe/London:20251203T210000
DTSTAMP:20260419T174741
CREATED:20251230T231435Z
LAST-MODIFIED:20251230T231435Z
UID:10002569-1764788400-1764795600@modernmysteryschooluk.com
SUMMARY:7 Mystery Schools Class
DESCRIPTION:7 Mystery Schools Class\n  \n \nIn this informative class\, you will learn about the planet’s 7 mystery schools\, including their location\, mission\, purpose\, and deep insights. \nFor years\, these schools have been closed to the public. The teachings were only offered to royalty and the extremely gifted\, but humanity’s consciousness has been shifting to new heights\, and now all are ready to receive this information and teachings. \nThis class offers a more in-depth look at these and the information and mystery contained within them. \nTo register please email admin@modernmysteryschooluk.com \nLocation:  MMSUK&EU HQ\, 4 Celbridge Mews\, London\, W26EU\nInvestment: £45 per class 
URL:https://modernmysteryschooluk.com/event/7-mystery-schools-class-6/
LOCATION:MMS UK&EU HQ\, 4 Celbridge Mews\, London\, W26EU\, United Kingdom
ATTACH;FMTTYPE=image/webp:https://modernmysteryschooluk.com/wp-content/uploads/2025/08/water-1283963__340.webp
ORGANIZER;CN="Modern Mystery School UK & Europe":MAILTO:info@modernmysteryschooluk.com
END:VEVENT
END:VCALENDAR