BEGIN:VCALENDAR
VERSION:2.0
PRODID:-//Modern Mystery School UK and Europe - ECPv6.15.20//NONSGML v1.0//EN
CALSCALE:GREGORIAN
METHOD:PUBLISH
X-WR-CALNAME:Modern Mystery School UK and Europe
X-ORIGINAL-URL:https://modernmysteryschooluk.com
X-WR-CALDESC:Events for Modern Mystery School UK and Europe
REFRESH-INTERVAL;VALUE=DURATION:PT1H
X-Robots-Tag:noindex
X-PUBLISHED-TTL:PT1H
BEGIN:VTIMEZONE
TZID:Europe/London
BEGIN:DAYLIGHT
TZOFFSETFROM:+0000
TZOFFSETTO:+0100
TZNAME:BST
DTSTART:20240331T010000
END:DAYLIGHT
BEGIN:STANDARD
TZOFFSETFROM:+0100
TZOFFSETTO:+0000
TZNAME:GMT
DTSTART:20241027T010000
END:STANDARD
BEGIN:DAYLIGHT
TZOFFSETFROM:+0000
TZOFFSETTO:+0100
TZNAME:BST
DTSTART:20250330T010000
END:DAYLIGHT
BEGIN:STANDARD
TZOFFSETFROM:+0100
TZOFFSETTO:+0000
TZNAME:GMT
DTSTART:20251026T010000
END:STANDARD
BEGIN:DAYLIGHT
TZOFFSETFROM:+0000
TZOFFSETTO:+0100
TZNAME:BST
DTSTART:20260329T010000
END:DAYLIGHT
BEGIN:STANDARD
TZOFFSETFROM:+0100
TZOFFSETTO:+0000
TZNAME:GMT
DTSTART:20261025T010000
END:STANDARD
END:VTIMEZONE
BEGIN:VEVENT
DTSTART;TZID=Europe/London:20251120T190000
DTEND;TZID=Europe/London:20251120T203000
DTSTAMP:20260419T192531
CREATED:20250926T102449Z
LAST-MODIFIED:20250926T102449Z
UID:10002499-1763665200-1763670600@modernmysteryschooluk.com
SUMMARY:MAX Meditation - Reconnect to Inner Peace
DESCRIPTION:MAX Meditation Invitation \n\nThe MAX Meditation is the perfect time to pause\, relax\, and reconnect with your inner peace and stillness. \n\nFrom inner calm and relaxation\, we can grow and transform. \n\nSet new intentions and initiate the positive change in your life! \n\nCome as you are and allow yourself the gift of quiet reflection and gentle renewal. Let’s step into a quiet pond\, here healing and inspiration await. \n\nReady to reconnect to inner peace and allow yourself to truly rest and welcome new possibilities? \n\nJoin me on 20 November 2025 \nTime: 7pm-8:30pm \nLocation: 4 Celbridge Mews London\, W26EU \nInvestment: £20 \n\nSee you soon \n\n#MAXMeditation #InnerPeace #Stillness #FindBlissWithin
URL:https://modernmysteryschooluk.com/event/max-meditation-reconnect-to-inner-peace/
LOCATION:MMS UK&EU HQ\, 4 Celbridge Mews\, London\, W26EU\, United Kingdom
ATTACH;FMTTYPE=image/png:https://modernmysteryschooluk.com/wp-content/uploads/2025/09/Screenshot-2025-09-26-at-11.20.27.png
ORGANIZER;CN="Kasia Mikolajczyk":MAILTO:admin@modernmysteryschooluk.com
END:VEVENT
END:VCALENDAR