BEGIN:VCALENDAR
VERSION:2.0
PRODID:-//Modern Mystery School UK and Europe - ECPv6.15.20//NONSGML v1.0//EN
CALSCALE:GREGORIAN
METHOD:PUBLISH
X-WR-CALNAME:Modern Mystery School UK and Europe
X-ORIGINAL-URL:https://modernmysteryschooluk.com
X-WR-CALDESC:Events for Modern Mystery School UK and Europe
REFRESH-INTERVAL;VALUE=DURATION:PT1H
X-Robots-Tag:noindex
X-PUBLISHED-TTL:PT1H
BEGIN:VTIMEZONE
TZID:Europe/London
BEGIN:DAYLIGHT
TZOFFSETFROM:+0000
TZOFFSETTO:+0100
TZNAME:BST
DTSTART:20240331T010000
END:DAYLIGHT
BEGIN:STANDARD
TZOFFSETFROM:+0100
TZOFFSETTO:+0000
TZNAME:GMT
DTSTART:20241027T010000
END:STANDARD
BEGIN:DAYLIGHT
TZOFFSETFROM:+0000
TZOFFSETTO:+0100
TZNAME:BST
DTSTART:20250330T010000
END:DAYLIGHT
BEGIN:STANDARD
TZOFFSETFROM:+0100
TZOFFSETTO:+0000
TZNAME:GMT
DTSTART:20251026T010000
END:STANDARD
BEGIN:DAYLIGHT
TZOFFSETFROM:+0000
TZOFFSETTO:+0100
TZNAME:BST
DTSTART:20260329T010000
END:DAYLIGHT
BEGIN:STANDARD
TZOFFSETFROM:+0100
TZOFFSETTO:+0000
TZNAME:GMT
DTSTART:20261025T010000
END:STANDARD
END:VTIMEZONE
BEGIN:VEVENT
DTSTART;TZID=Europe/London:20251030T180000
DTEND;TZID=Europe/London:20251030T210000
DTSTAMP:20260419T192535
CREATED:20250926T093943Z
LAST-MODIFIED:20250926T093943Z
UID:10002086-1761847200-1761858000@modernmysteryschooluk.com
SUMMARY:Sacred Geometry 1 with Kasia in London
DESCRIPTION:Sacred Geometry 1 \n\n\nEverything in the physical world manifests through Sacred Geometry.  \nSacred patterns and symbols are found in all matter\, all around us. Sacred Geometry is an art\, a science\, and a metaphysical series of teachings that help to elevate our consciousness and master the process of creation. \n​ \nThe Greeks and Egyptians were the most famous students of the Sacred Geometry principles. From the Pyramids of Giza to the mathematical schools of Pythagoras\, Sacred Geometry helped the adept to acquire wisdom\, connect with spirit\, and transform the energy of the physical world around them. \n​ \nIn this half a day workshop\, you will be introduced to the philosophical foundation of Sacred Geometry including: \n\n\nThe 3 Keys to Heaven – the energy and theory of the 3 basic geometries \n\n\nThe connection of Sacred Geometry to the elements of Manifestation \n\n\nReceive an energetic attunement of the 3 Keys to Heaven \n\n\nLearn to protect your home\, office\, and other spaces from outside negative energies \n\n\nCreate a holy temple space for meditation\, healing\, and holy work \n\n\n​ \n\n\n\nTo book your place\, please email KASIA at info@findblisswithin.com or reach out by phone on 07533653331\nYou can also use the link here to register. \nKeen to know more about the Sacred Geometry series?\nClick HERE?
URL:https://modernmysteryschooluk.com/event/sacred-geometry-1-with-kasia-in-london-5/
LOCATION:MMS UK&EU HQ\, 4 Celbridge Mews\, London\, W26EU\, United Kingdom
ATTACH;FMTTYPE=image/png:https://modernmysteryschooluk.com/wp-content/uploads/2024/05/10.png
ORGANIZER;CN="Kasia Mikolajczyk":MAILTO:admin@modernmysteryschooluk.com
END:VEVENT
END:VCALENDAR