BEGIN:VCALENDAR
VERSION:2.0
PRODID:-//Modern Mystery School UK and Europe - ECPv6.15.20//NONSGML v1.0//EN
CALSCALE:GREGORIAN
METHOD:PUBLISH
X-ORIGINAL-URL:https://modernmysteryschooluk.com
X-WR-CALDESC:Events for Modern Mystery School UK and Europe
REFRESH-INTERVAL;VALUE=DURATION:PT1H
X-Robots-Tag:noindex
X-PUBLISHED-TTL:PT1H
BEGIN:VTIMEZONE
TZID:Europe/London
BEGIN:DAYLIGHT
TZOFFSETFROM:+0000
TZOFFSETTO:+0100
TZNAME:BST
DTSTART:20240331T010000
END:DAYLIGHT
BEGIN:STANDARD
TZOFFSETFROM:+0100
TZOFFSETTO:+0000
TZNAME:GMT
DTSTART:20241027T010000
END:STANDARD
BEGIN:DAYLIGHT
TZOFFSETFROM:+0000
TZOFFSETTO:+0100
TZNAME:BST
DTSTART:20250330T010000
END:DAYLIGHT
BEGIN:STANDARD
TZOFFSETFROM:+0100
TZOFFSETTO:+0000
TZNAME:GMT
DTSTART:20251026T010000
END:STANDARD
BEGIN:DAYLIGHT
TZOFFSETFROM:+0000
TZOFFSETTO:+0100
TZNAME:BST
DTSTART:20260329T010000
END:DAYLIGHT
BEGIN:STANDARD
TZOFFSETFROM:+0100
TZOFFSETTO:+0000
TZNAME:GMT
DTSTART:20261025T010000
END:STANDARD
END:VTIMEZONE
BEGIN:VEVENT
DTSTART;TZID=Europe/London:20251018T080000
DTEND;TZID=Europe/London:20251018T200000
DTSTAMP:20260419T211739
CREATED:20250325T155224Z
LAST-MODIFIED:20250910T215553Z
UID:10002026-1760774400-1760817600@modernmysteryschooluk.com
SUMMARY:Enochian 1
DESCRIPTION:REQUIRED LEVEL OF INITIATION: Certified Ritual Master 1 \n\n  \nPayments can only be taken once your RM application has been approved. Please see Ritual Master Novice for details or talk to your guide for assistance. \n\n*SEATING IS LIMITED\nFirst come\, first serve! \nINVESTMENT : \n\nFirst 30 to book £525 \n31 + £585 \nDEPOSIT required by 29th September  (to reserve your seat) : £250 \nPrices inclusive of VAT \n*Please note your deposit is non-refundable/\nnon-transferable for any reason  \nAdvanced registration is required. Please contact Modern Mystery School Administration to place your deposit once your RM application has been approved ONLY.  \nFull payment is required by October  7th  2025 \n\n\nEMAIL: admin@modernmysteryschooluk.co \nLate payment fee £150  \n 
URL:https://modernmysteryschooluk.com/event/enochian-1-3/
LOCATION:MMS UK&EU HQ\, 4 Celbridge Mews\, London\, W26EU\, United Kingdom
ATTACH;FMTTYPE=image/jpeg:https://modernmysteryschooluk.com/wp-content/uploads/2020/09/angels-.jpg
ORGANIZER;CN="Modern Mystery School UK & Europe":MAILTO:info@modernmysteryschooluk.com
END:VEVENT
END:VCALENDAR