BEGIN:VCALENDAR
VERSION:2.0
PRODID:-//Modern Mystery School UK and Europe - ECPv6.15.20//NONSGML v1.0//EN
CALSCALE:GREGORIAN
METHOD:PUBLISH
X-WR-CALNAME:Modern Mystery School UK and Europe
X-ORIGINAL-URL:https://modernmysteryschooluk.com
X-WR-CALDESC:Events for Modern Mystery School UK and Europe
REFRESH-INTERVAL;VALUE=DURATION:PT1H
X-Robots-Tag:noindex
X-PUBLISHED-TTL:PT1H
BEGIN:VTIMEZONE
TZID:Europe/London
BEGIN:DAYLIGHT
TZOFFSETFROM:+0000
TZOFFSETTO:+0100
TZNAME:BST
DTSTART:20240331T010000
END:DAYLIGHT
BEGIN:STANDARD
TZOFFSETFROM:+0100
TZOFFSETTO:+0000
TZNAME:GMT
DTSTART:20241027T010000
END:STANDARD
BEGIN:DAYLIGHT
TZOFFSETFROM:+0000
TZOFFSETTO:+0100
TZNAME:BST
DTSTART:20250330T010000
END:DAYLIGHT
BEGIN:STANDARD
TZOFFSETFROM:+0100
TZOFFSETTO:+0000
TZNAME:GMT
DTSTART:20251026T010000
END:STANDARD
BEGIN:DAYLIGHT
TZOFFSETFROM:+0000
TZOFFSETTO:+0100
TZNAME:BST
DTSTART:20260329T010000
END:DAYLIGHT
BEGIN:STANDARD
TZOFFSETFROM:+0100
TZOFFSETTO:+0000
TZNAME:GMT
DTSTART:20261025T010000
END:STANDARD
END:VTIMEZONE
BEGIN:VEVENT
DTSTART;TZID=Europe/London:20251011T100000
DTEND;TZID=Europe/London:20251015T200000
DTSTAMP:20260419T211758
CREATED:20250228T140515Z
LAST-MODIFIED:20250505T072238Z
UID:10001997-1760176800-1760558400@modernmysteryschooluk.com
SUMMARY:Healers Academy 1
DESCRIPTION:The Modern Mystery School is an international organization providing individuals worldwide with the knowledge\, tools and support for personal and spiritual growth and empowerment. The Healers Academy is a five-day intensive certification course that offers the skills and techniques to launch your own spiritual business or increase your existing practice! \n \nHealers Academy Level 1 certifies you to provide the Life Activation and Full Energy Balancing Session\, Aura healing session as well as teaching to facilitate the Max Meditation workshop. \nBecome a Certified Life Activation Practitioner and… \n\nHeal yourself so you can heal others\nEmpower yourself so you can empower others\nFind your purpose in life and awaken others’ life purpose through Life Activation!\nProvide energy healing and balancing sessions to clients!\nAccess the various human energy systems!\nLearn how the Light can heal and transform people!\nLearn how you can make a difference in the world!\n…..and more!\n\nREQUIRED LEVEL OF INITIATION: Adept \nPRE-REQUISITES:\nLife Activation Astral Travel\, Sacred Geometry 1\, Journeys of the Spirit\, 12 Races Class \n*SEATING IS LIMITED ~\nFirst come\, first serve! \nINVESTMENT:**\nBy Booking Order: \n£2890 first 25 spots \n£3075- 26+ spots \n£3321 – 46+ Spots \nDEPOSIT: £700 \n*Please note your deposit is non-refundable/\nnon-transferable for any reason \nTo register: \nplease EMAIL: admin@modernmysteryschooluk.com \nYou will receive a registration form to complete \nOnce the completed form is received\, an electronic invoice will be created and emailed to you. \nPlease note the invoice will say the full amount however you are able to pay the deposit by clicking onto the link and selecting the amount you would like to pay \nMore videos can be found on our YouTube channel \n\nhttps://modernmysteryschooluk.com/wp-content/uploads/2023/11/Energy-of-Healers-Academy-1.mp4
URL:https://modernmysteryschooluk.com/event/healers-academy-1-6/
LOCATION:The Columbia\, 95-99 Lancaster Gate\, London\, W23NS\, United Kingdom
ATTACH;FMTTYPE=image/png:https://modernmysteryschooluk.com/wp-content/uploads/2020/08/HealersAcademy.png
ORGANIZER;CN="Modern Mystery School UK & Europe":MAILTO:info@modernmysteryschooluk.com
END:VEVENT
BEGIN:VEVENT
DTSTART;TZID=Europe/London:20251014T100000
DTEND;TZID=Europe/London:20251014T233000
DTSTAMP:20260419T211758
CREATED:20250326T132924Z
LAST-MODIFIED:20250527T093310Z
UID:10002029-1760436000-1760484600@modernmysteryschooluk.com
SUMMARY:Magick of the RM
DESCRIPTION:The Ritual Master has the privilege and honour of serving humanity through many different forms of magick and ritual. This one-day training session will cover essential magicks for the Ritual Master and how the RM wields these energies for the greater good. \nIn this class\, you learn about how RMs work with: \n\nEnochian Magick\nEgyptian Magick\nGoethian Magick\nShamanic Magick\n\nIn this class\, Ritual Masters will also receive their Celtic Shaman Initiation! \nNot to be missed! \n*This class is a requirement for all those in attending Ritual Master Novice* \nREQUIRED LEVEL OF INITIATION: Ritual Master Novice (RM 1) \n*SEATING IS LIMITED!* \nINVESTMENT By booking order  \n£585  first 20 spots \n \n£640 21 + \nDEPOSIT: £250 (Required by 28th September 2025) \nPrices are inclusive of VAT \n  \nAudit fee – upon request \n*Please note your deposit is non-refundable/\nnon-transferable for any reason  \n  \nPlease email admin@modernmysteryschooluk.com \nYour deposits will be taken once your RM application os approved Via HQ in Canada – please see the Ritual Master Novice event details. \n(Late payment fee £150) \nFull payment is required by 7th October 2025
URL:https://modernmysteryschooluk.com/event/magick-of-the-rm-5/
LOCATION:The Columbia\, 95-99 Lancaster Gate\, London\, W23NS\, United Kingdom
ORGANIZER;CN="Modern Mystery School UK & Europe":MAILTO:info@modernmysteryschooluk.com
END:VEVENT
END:VCALENDAR