BEGIN:VCALENDAR
VERSION:2.0
PRODID:-//Modern Mystery School UK and Europe - ECPv6.15.20//NONSGML v1.0//EN
CALSCALE:GREGORIAN
METHOD:PUBLISH
X-WR-CALNAME:Modern Mystery School UK and Europe
X-ORIGINAL-URL:https://modernmysteryschooluk.com
X-WR-CALDESC:Events for Modern Mystery School UK and Europe
REFRESH-INTERVAL;VALUE=DURATION:PT1H
X-Robots-Tag:noindex
X-PUBLISHED-TTL:PT1H
BEGIN:VTIMEZONE
TZID:Europe/London
BEGIN:DAYLIGHT
TZOFFSETFROM:+0000
TZOFFSETTO:+0100
TZNAME:BST
DTSTART:20220327T010000
END:DAYLIGHT
BEGIN:STANDARD
TZOFFSETFROM:+0100
TZOFFSETTO:+0000
TZNAME:GMT
DTSTART:20221030T010000
END:STANDARD
BEGIN:DAYLIGHT
TZOFFSETFROM:+0000
TZOFFSETTO:+0100
TZNAME:BST
DTSTART:20230326T010000
END:DAYLIGHT
BEGIN:STANDARD
TZOFFSETFROM:+0100
TZOFFSETTO:+0000
TZNAME:GMT
DTSTART:20231029T010000
END:STANDARD
BEGIN:DAYLIGHT
TZOFFSETFROM:+0000
TZOFFSETTO:+0100
TZNAME:BST
DTSTART:20240331T010000
END:DAYLIGHT
BEGIN:STANDARD
TZOFFSETFROM:+0100
TZOFFSETTO:+0000
TZNAME:GMT
DTSTART:20241027T010000
END:STANDARD
END:VTIMEZONE
BEGIN:VEVENT
DTSTART;TZID=Europe/London:20231025T100000
DTEND;TZID=Europe/London:20231025T220000
DTSTAMP:20260419T175344
CREATED:20230529T130206Z
LAST-MODIFIED:20230606T194256Z
UID:10001291-1698228000-1698271200@modernmysteryschooluk.com
SUMMARY:Enochian 4
DESCRIPTION:  \n \nThis class is for Ritual Masters only. Pre-requisites are Enochian Magick Training Levels 1-3. \nEnochian Magick Level 4 Training introduces the RM student to the Third Hierarchy of Enochian Angels–the Angels of the 30 Ayres.  How these Angels function and serve humanity will be explored as well as the 30 regions (Ayres) they inhabit and serve in.  By learning something more about what happens in each of these 30 Ayres\, about the Angels that serve there and how this is related to our lives\, we can reach a deeper understanding of the tests and challenges we face day to day \nREQUIRED LEVEL OF INITIATION: Certified Ritual Master \nPRE-REQUISITES: Enochian Training Levels 1 – 3 \nPlease note this Enochian class is a requirement for attending RM 2 in this same program. \n\n*SEATING IS LIMITED\nFirst come\, first serve! \nINVESTMENT : \n\nFirst 30 to book £525 \n31 + £585 \nDEPOSIT required by Sept 8th (to reserve your seat) : £250 \nPrices inclusive of VAT \n*Please note your deposit is non-refundable/\nnon-transferable for any reason (outside of government intervention due to Covid-19 regulation changes and updates.) \nAdvanced registration is required. Please contact Modern Mystery School Administration to place your deposit once your RM application has been approved ONLY.  \nFull payment is required by 1s October 2023 \n\n\nEMAIL: admin@modernmysteryschooluk.com \n\nLate Payment fee £150
URL:https://modernmysteryschooluk.com/event/enochian-4-2/
LOCATION:The Columbia\, 95-99 Lancaster Gate\, London\, W23NS\, United Kingdom
ATTACH;FMTTYPE=image/jpeg:https://modernmysteryschooluk.com/wp-content/uploads/2022/07/0-Enochian-Temple_Francesco_Botticini_-_The_Assumption_of_the_Virgin.jpg
ORGANIZER;CN="Modern Mystery School UK & Europe":MAILTO:info@modernmysteryschooluk.com
END:VEVENT
BEGIN:VEVENT
DTSTART;TZID=Europe/London:20231025T190000
DTEND;TZID=Europe/London:20231025T200000
DTSTAMP:20260419T175344
CREATED:20220705T160040Z
LAST-MODIFIED:20230614T190512Z
UID:10001320-1698260400-1698264000@modernmysteryschooluk.com
SUMMARY:Max Meditation Every Wednesday
DESCRIPTION:Join us in person or online for a guided meditation ( Max Meditation System TM) that includes 5 components to completely relax and rejuvenate your being. Benefits of Meditation Clarity during times of feeling overwhelmed Keeps you focused and centered on all positivity. Empowers you to own the ability to change your thoughts and Greater Awareness so you can make better choices Relaxes your mind and physical body Lowers blood pressure the ability to enhance your creativity Reduces stress and many more … \nMax Meditation System TM\n \nPeace \nCalm \nBalance \nare just some of the many benefits of meditation \nPlease join us at 6:50 pm for a 7pm start \nExchange £10 \nTo book your seat please click HERE \nBookings are essential as seating is LIMITED \nemail: resonateinnerpeace@gmail.com
URL:https://modernmysteryschooluk.com/event/max-meditation-london-2/2023-10-25/
LOCATION:The Columbia\, 95-99 Lancaster Gate\, London\, W23NS\, United Kingdom
ORGANIZER;CN="Modern Mystery School UK & Europe":MAILTO:info@modernmysteryschooluk.com
END:VEVENT
BEGIN:VEVENT
DTSTART;TZID=Europe/London:20231025T190000
DTEND;TZID=Europe/London:20231025T213000
DTSTAMP:20260419T175344
CREATED:20231002T201054Z
LAST-MODIFIED:20231010T160928Z
UID:10001608-1698260400-1698269400@modernmysteryschooluk.com
SUMMARY:Full Moon Meditation and Gathering Preparation to embrace Samhain.
DESCRIPTION:Venue : Columbia Hotel – The Live Room \nFull Moon Meditation and Gathering Preparation to embrace Samhain. \nDate : Wednesday October 25th 7pm to 9.30pm \nVenue : Columbia Hotel – The Live Room \nJoin us as we bring light into darkness\, as we prepare for the wheel turns and we enter winter months where shorter days and longer nights. As we prepare we anchor and carry the light of the full moon into our lives so we can illuminate our path into the winter months ahead . \nAs approach Samhain which marks end of summertime and the last harvest of the year \, we give thanks as the gifts of the Earth die and at the same time we reflect on our accomplishments and create a foundation of new beginnings and the flow of light in our lives…\nCome join us and the light of our community as we bask in a full moon meditation and mingle thereafter ! \nEveryone is welcome ! Bring a friend ! \nSee you there ! \nPlease register by emailing by 10th October \nadmin@modermysteryschooluk.com \n£25 per person prepay – using this link \nhttps://buy.stripe.com/fZe9Cw56y8xm9zOdQT \nOR \n£30 on the door \nSee you there !
URL:https://modernmysteryschooluk.com/event/samhain-themed-full-moon-meditation-and-gathering/
LOCATION:The Columbia\, 95-99 Lancaster Gate\, London\, W23NS\, United Kingdom
END:VEVENT
END:VCALENDAR